BEGIN:VCALENDAR
VERSION:2.0
PRODID:-//217.160.0.217//NONSGML kigkonsult.se iCalcreator 2.20//
CALSCALE:GREGORIAN
METHOD:PUBLISH
X-WR-TIMEZONE:Europe/Berlin
BEGIN:VEVENT
UID:event322@Berufsschule, BOS und FOS Kelheim
DTSTAMP:20260419T180004Z
CATEGORIES:Schule - WS\, Anmeldung WS
DESCRIPTION:2. Anmeldezeitraum Wirtschaftsschule Abensberg\nKategorie: Schu
 le - WS\, Anmeldung WS\nICS-Link: https://bsz-kelheim.de/index.php?option=
 com_jem&view=event&id=322:2-anmeldezeitraum-wirtschaftsschule-abensberg\n
DTSTART;VALUE=DATE:20200316
DTEND;VALUE=DATE:20200328
LOCATION:Wirtschaftsschule Abensberg\,Römerstraße 12\,93326 Abensberg
SUMMARY:2. Anmeldezeitraum Wirtschaftsschule Abensberg
URL:https://bsz-kelheim.de/index.php?option=com_jem&view=event&id=322:2-anm
 eldezeitraum-wirtschaftsschule-abensberg
END:VEVENT
END:VCALENDAR
