BEGIN:VCALENDAR
VERSION:2.0
PRODID:-//217.160.0.217//NONSGML kigkonsult.se iCalcreator 2.20//
CALSCALE:GREGORIAN
METHOD:PUBLISH
X-WR-TIMEZONE:Europe/Berlin
BEGIN:VEVENT
UID:event331@Berufsschule, BOS und FOS Kelheim
DTSTAMP:20260421T135309Z
CATEGORIES:Schule - BS-Kelheim\, Schule - FOSBOS
DESCRIPTION:Vortrag: Digitales Gaming\nKategorie: Schule - BS-Kelheim\, Sch
 ule - FOSBOS\nICS-Link: https://bsz-kelheim.de/index.php?option=com_jem&vi
 ew=event&id=331:vortrag-digitales-gaming\n
DTSTART;VALUE=DATE:20191205
DTEND;VALUE=DATE:20191206
LOCATION:BSZ Kelheim\,Schützenstraße 30\,93309 Kelheim
SUMMARY:Vortrag: Digitales Gaming
URL:https://bsz-kelheim.de/index.php?option=com_jem&view=event&id=331:vortr
 ag-digitales-gaming
END:VEVENT
END:VCALENDAR
