BEGIN:VCALENDAR
VERSION:2.0
PRODID:-//217.160.0.217//NONSGML kigkonsult.se iCalcreator 2.20//
CALSCALE:GREGORIAN
METHOD:PUBLISH
X-WR-TIMEZONE:Europe/Berlin
BEGIN:VEVENT
UID:event333@Berufsschule, BOS und FOS Kelheim
DTSTAMP:20260421T102608Z
CATEGORIES:Schule - BS-Kelheim
DESCRIPTION:Abschlussfeier Berufsschule\nKategorie: Schule - BS-Kelheim\nIC
 S-Link: https://bsz-kelheim.de/index.php?option=com_jem&view=event&id=333:
 abschlussfeier-berufsschule\n
DTSTART;TZID=Europe/Berlin:20200214T140000
DTEND;TZID=Europe/Berlin:20200214T140000
LOCATION:Berufsschule in Kelheim\,Schützenstraße 30\,93309 Kelheim
SUMMARY:Abschlussfeier Berufsschule
URL:https://bsz-kelheim.de/index.php?option=com_jem&view=event&id=333:absch
 lussfeier-berufsschule
END:VEVENT
END:VCALENDAR
