BEGIN:VCALENDAR
VERSION:2.0
PRODID:-//217.160.0.217//NONSGML kigkonsult.se iCalcreator 2.20//
CALSCALE:GREGORIAN
METHOD:PUBLISH
X-WR-TIMEZONE:Europe/Berlin
BEGIN:VEVENT
UID:event334@Berufsschule, BOS und FOS Kelheim
DTSTAMP:20260420T133922Z
CATEGORIES:Schule - FOSBOS
DESCRIPTION:Abgabe der Seminararbeiten im Sekretariat\nKategorie: Schule - 
 FOSBOS\nICS-Link: https://bsz-kelheim.de/index.php?option=com_jem&view=eve
 nt&id=334:abgabe-der-seminararbeiten-im-sekretariat\n
DTSTART;VALUE=DATE:20200114
DTEND;VALUE=DATE:20200115
LOCATION:FOSBOS Kelheim\,Schützenstraße 30\,93309 Kelheim
SUMMARY:Abgabe der Seminararbeiten im Sekretariat
URL:https://bsz-kelheim.de/index.php?option=com_jem&view=event&id=334:abgab
 e-der-seminararbeiten-im-sekretariat
END:VEVENT
END:VCALENDAR
