BEGIN:VCALENDAR
VERSION:2.0
PRODID:-//217.160.0.217//NONSGML kigkonsult.se iCalcreator 2.20//
CALSCALE:GREGORIAN
METHOD:PUBLISH
X-WR-TIMEZONE:Europe/Berlin
BEGIN:VEVENT
UID:event338@Berufsschule, BOS und FOS Kelheim
DTSTAMP:20260419T150236Z
CATEGORIES:Schule - BS-Kelheim\, Abteilung Wirtschaft_BS\, Bankkaufleute
DESCRIPTION:Vortrag zu Weiterbildungsmöglichkeiten im Bankensektor\nKategor
 ie: Schule - BS-Kelheim\, Abteilung Wirtschaft_BS\, Bankkaufleute\nICS-Lin
 k: https://bsz-kelheim.de/index.php?option=com_jem&view=event&id=338:vortr
 ag-zu-weiterbildungsmoeglichkeiten-im-bankensektor\n
DTSTART;TZID=Europe/Berlin:20200303T110500
DTEND;TZID=Europe/Berlin:20200303T123500
LOCATION:BSZ Kelheim\,Schützenstraße 30\,93309 Kelheim
SUMMARY:Vortrag zu Weiterbildungsmöglichkeiten im Bankensektor
URL:https://bsz-kelheim.de/index.php?option=com_jem&view=event&id=338:vortr
 ag-zu-weiterbildungsmoeglichkeiten-im-bankensektor
END:VEVENT
END:VCALENDAR
