BEGIN:VCALENDAR
VERSION:2.0
PRODID:-//217.160.0.217//NONSGML kigkonsult.se iCalcreator 2.20//
CALSCALE:GREGORIAN
METHOD:PUBLISH
X-WR-TIMEZONE:Europe/Berlin
BEGIN:VEVENT
UID:event342@Berufsschule, BOS und FOS Kelheim
DTSTAMP:20260420T132735Z
CATEGORIES:Schule - FOSBOS
DESCRIPTION:Ersatzprüfung - Deutsch\nKategorie: Schule - FOSBOS\nICS-Link: 
 https://bsz-kelheim.de/index.php?option=com_jem&view=event&id=342:nachprue
 fung-deutsch\n
DTSTART;TZID=Europe/Berlin:20200513T140000
DTEND;TZID=Europe/Berlin:20200513T140000
LOCATION:FOSBOS Kelheim\,Schützenstraße 30\,93309 Kelheim
SUMMARY:Ersatzprüfung - Deutsch
URL:https://bsz-kelheim.de/index.php?option=com_jem&view=event&id=342:nachp
 ruefung-deutsch
END:VEVENT
END:VCALENDAR
