BEGIN:VCALENDAR
VERSION:2.0
PRODID:-//217.160.0.217//NONSGML kigkonsult.se iCalcreator 2.20//
CALSCALE:GREGORIAN
METHOD:PUBLISH
X-WR-TIMEZONE:Europe/Berlin
BEGIN:VEVENT
UID:event343@Berufsschule, BOS und FOS Kelheim
DTSTAMP:20260420T132645Z
CATEGORIES:Schule - FOSBOS
DESCRIPTION:Ersatzprüfung - Sp / Ch\nKategorie: Schule - FOSBOS\nICS-Link: 
 https://bsz-kelheim.de/index.php?option=com_jem&view=event&id=343:nachprue
 fung-sp-ch\n
DTSTART;TZID=Europe/Berlin:20200514T140000
DTEND;TZID=Europe/Berlin:20200514T140000
LOCATION:FOSBOS Kelheim\,Schützenstraße 30\,93309 Kelheim
SUMMARY:Ersatzprüfung - Sp / Ch
URL:https://bsz-kelheim.de/index.php?option=com_jem&view=event&id=343:nachp
 ruefung-sp-ch
END:VEVENT
END:VCALENDAR
