BEGIN:VCALENDAR
VERSION:2.0
PRODID:-//217.160.0.217//NONSGML kigkonsult.se iCalcreator 2.20//
CALSCALE:GREGORIAN
METHOD:PUBLISH
X-WR-TIMEZONE:Europe/Berlin
BEGIN:VEVENT
UID:event344@Berufsschule, BOS und FOS Kelheim
DTSTAMP:20260420T133812Z
CATEGORIES:Schule - FOSBOS
DESCRIPTION:Ersatzprüfung - GSk/Sk/VWL/Soz/Ipo/Te/M+\nKategorie: Schule - F
 OSBOS\nICS-Link: https://bsz-kelheim.de/index.php?option=com_jem&view=even
 t&id=344:nachpruefung-gsk-sk-vwl-soz-ipo-te-m\n
DTSTART;TZID=Europe/Berlin:20200515T140000
DTEND;TZID=Europe/Berlin:20200515T140000
LOCATION:FOSBOS Kelheim\,Schützenstraße 30\,93309 Kelheim
SUMMARY:Ersatzprüfung - GSk/Sk/VWL/Soz/Ipo/Te/M+
URL:https://bsz-kelheim.de/index.php?option=com_jem&view=event&id=344:nachp
 ruefung-gsk-sk-vwl-soz-ipo-te-m
END:VEVENT
END:VCALENDAR
