BEGIN:VCALENDAR
VERSION:2.0
PRODID:-//217.160.0.217//NONSGML kigkonsult.se iCalcreator 2.20//
CALSCALE:GREGORIAN
METHOD:PUBLISH
X-WR-TIMEZONE:Europe/Berlin
BEGIN:VEVENT
UID:event345@Berufsschule, BOS und FOS Kelheim
DTSTAMP:20260420T132645Z
CATEGORIES:Schule - FOSBOS
DESCRIPTION:Ersatzprüfung - Inf/B\nKategorie: Schule - FOSBOS\nICS-Link: ht
 tps://bsz-kelheim.de/index.php?option=com_jem&view=event&id=345:nachpruefu
 ng-inf-b\n
DTSTART;TZID=Europe/Berlin:20200523T090000
DTEND;TZID=Europe/Berlin:20200523T090000
LOCATION:FOSBOS Kelheim\,Schützenstraße 30\,93309 Kelheim
SUMMARY:Ersatzprüfung - Inf/B
URL:https://bsz-kelheim.de/index.php?option=com_jem&view=event&id=345:nachp
 ruefung-inf-b
END:VEVENT
END:VCALENDAR
