BEGIN:VCALENDAR
VERSION:2.0
PRODID:-//217.160.0.217//NONSGML kigkonsult.se iCalcreator 2.20//
CALSCALE:GREGORIAN
METHOD:PUBLISH
X-WR-TIMEZONE:Europe/Berlin
BEGIN:VEVENT
UID:event346@Berufsschule, BOS und FOS Kelheim
DTSTAMP:20260420T132736Z
CATEGORIES:Schule - FOSBOS
DESCRIPTION:Ersatzprüfung - BWR/PP/Physik\nKategorie: Schule - FOSBOS\nICS-
 Link: https://bsz-kelheim.de/index.php?option=com_jem&view=event&id=346:na
 chpruefung-bwr-pp-physik\n
DTSTART;TZID=Europe/Berlin:20200525T140000
DTEND;TZID=Europe/Berlin:20200525T140000
LOCATION:FOSBOS Kelheim\,Schützenstraße 30\,93309 Kelheim
SUMMARY:Ersatzprüfung - BWR/PP/Physik
URL:https://bsz-kelheim.de/index.php?option=com_jem&view=event&id=346:nachp
 ruefung-bwr-pp-physik
END:VEVENT
END:VCALENDAR
