BEGIN:VCALENDAR
VERSION:2.0
PRODID:-//217.160.0.217//NONSGML kigkonsult.se iCalcreator 2.20//
CALSCALE:GREGORIAN
METHOD:PUBLISH
X-WR-TIMEZONE:Europe/Berlin
BEGIN:VEVENT
UID:event349@Berufsschule, BOS und FOS Kelheim
DTSTAMP:20260419T175618Z
CATEGORIES:Schule - FOSBOS
DESCRIPTION:Ersatzprüfung - Englisch\nKategorie: Schule - FOSBOS\nICS-Link:
  https://bsz-kelheim.de/index.php?option=com_jem&view=event&id=349:nachpru
 efung-englisch\n
DTSTART;TZID=Europe/Berlin:20200602T090000
DTEND;TZID=Europe/Berlin:20200602T090000
LOCATION:FOSBOS Kelheim\,Schützenstraße 30\,93309 Kelheim
SUMMARY:Ersatzprüfung - Englisch
URL:https://bsz-kelheim.de/index.php?option=com_jem&view=event&id=349:nachp
 ruefung-englisch
END:VEVENT
END:VCALENDAR
