BEGIN:VCALENDAR
VERSION:2.0
PRODID:-//217.160.0.217//NONSGML kigkonsult.se iCalcreator 2.20//
CALSCALE:GREGORIAN
METHOD:PUBLISH
X-WR-TIMEZONE:Europe/Berlin
BEGIN:VEVENT
UID:event350@Berufsschule, BOS und FOS Kelheim
DTSTAMP:20260421T141447Z
CATEGORIES:Schule - FOSBOS
DESCRIPTION:Abitur - Mündliche Gruppenprüfung Englisch \nKategorie: Schule 
 - FOSBOS\nICS-Link: https://bsz-kelheim.de/index.php?option=com_jem&view=e
 vent&id=350:abitur-muendliche-gruppenpruefung-englisch\n
DTSTART;VALUE=DATE:20200518
DTEND;VALUE=DATE:20200530
LOCATION:BSZ Kelheim\,Schützenstraße 30\,93309 Kelheim
SUMMARY:Abitur - Mündliche Gruppenprüfung Englisch 
URL:https://bsz-kelheim.de/index.php?option=com_jem&view=event&id=350:abitu
 r-muendliche-gruppenpruefung-englisch
END:VEVENT
END:VCALENDAR
