BEGIN:VCALENDAR
VERSION:2.0
PRODID:-//217.160.0.217//NONSGML kigkonsult.se iCalcreator 2.20//
CALSCALE:GREGORIAN
METHOD:PUBLISH
X-WR-TIMEZONE:Europe/Berlin
BEGIN:VEVENT
UID:event351@Berufsschule, BOS und FOS Kelheim
DTSTAMP:20260421T141709Z
CATEGORIES:Schule - FOSBOS
DESCRIPTION:Abitur - Bekanntgabe der Halbjahresergebnisse\nKategorie: Schul
 e - FOSBOS\nICS-Link: https://bsz-kelheim.de/index.php?option=com_jem&view
 =event&id=351:abitur-bekanntgabe-der-halbjahresergebnisse\n
DTSTART;VALUE=DATE:20200616
DTEND;VALUE=DATE:20200617
LOCATION:FOSBOS Kelheim\,Schützenstraße 30\,93309 Kelheim
SUMMARY:Abitur - Bekanntgabe der Halbjahresergebnisse
URL:https://bsz-kelheim.de/index.php?option=com_jem&view=event&id=351:abitu
 r-bekanntgabe-der-halbjahresergebnisse
END:VEVENT
END:VCALENDAR
