BEGIN:VCALENDAR
VERSION:2.0
PRODID:-//217.160.0.217//NONSGML kigkonsult.se iCalcreator 2.20//
CALSCALE:GREGORIAN
METHOD:PUBLISH
X-WR-TIMEZONE:Europe/Berlin
BEGIN:VEVENT
UID:event353@Berufsschule, BOS und FOS Kelheim
DTSTAMP:20260423T150330Z
CATEGORIES:Schule - FOSBOS
DESCRIPTION:Abiturprüfung - Deutsch\nKategorie: Schule - FOSBOS\nICS-Link: 
 https://bsz-kelheim.de/index.php?option=com_jem&view=event&id=353:abiturpr
 uefung-deutsch\n
DTSTART;VALUE=DATE:20200618
DTEND;VALUE=DATE:20200619
LOCATION:FOSBOS Kelheim\,Schützenstraße 30\,93309 Kelheim
SUMMARY:Abiturprüfung - Deutsch
URL:https://bsz-kelheim.de/index.php?option=com_jem&view=event&id=353:abitu
 rpruefung-deutsch
END:VEVENT
END:VCALENDAR
