BEGIN:VCALENDAR
VERSION:2.0
PRODID:-//217.160.0.217//NONSGML kigkonsult.se iCalcreator 2.20//
CALSCALE:GREGORIAN
METHOD:PUBLISH
X-WR-TIMEZONE:Europe/Berlin
BEGIN:VEVENT
UID:event354@Berufsschule, BOS und FOS Kelheim
DTSTAMP:20260421T140453Z
CATEGORIES:Schule - FOSBOS
DESCRIPTION:Abiturprüfung - Englisch (schriftlich)\nKategorie: Schule - FOS
 BOS\nICS-Link: https://bsz-kelheim.de/index.php?option=com_jem&view=event&
 id=354:abiturpruefung-englisch-schriftlich\n
DTSTART;VALUE=DATE:20200619
DTEND;VALUE=DATE:20200620
LOCATION:FOSBOS Kelheim\,Schützenstraße 30\,93309 Kelheim
SUMMARY:Abiturprüfung - Englisch (schriftlich)
URL:https://bsz-kelheim.de/index.php?option=com_jem&view=event&id=354:abitu
 rpruefung-englisch-schriftlich
END:VEVENT
END:VCALENDAR
