BEGIN:VCALENDAR
VERSION:2.0
PRODID:-//217.160.0.217//NONSGML kigkonsult.se iCalcreator 2.20//
CALSCALE:GREGORIAN
METHOD:PUBLISH
X-WR-TIMEZONE:Europe/Berlin
BEGIN:VEVENT
UID:event355@Berufsschule, BOS und FOS Kelheim
DTSTAMP:20260423T145606Z
CATEGORIES:Schule - FOSBOS
DESCRIPTION:Abiturprüfung - Mathematik\nKategorie: Schule - FOSBOS\nICS-Lin
 k: https://bsz-kelheim.de/index.php?option=com_jem&view=event&id=355:abitu
 rpruefung-mathematik\n
DTSTART;VALUE=DATE:20200622
DTEND;VALUE=DATE:20200623
LOCATION:FOSBOS Kelheim\,Schützenstraße 30\,93309 Kelheim
SUMMARY:Abiturprüfung - Mathematik
URL:https://bsz-kelheim.de/index.php?option=com_jem&view=event&id=355:abitu
 rpruefung-mathematik
END:VEVENT
END:VCALENDAR
