BEGIN:VCALENDAR
VERSION:2.0
PRODID:-//217.160.0.217//NONSGML kigkonsult.se iCalcreator 2.20//
CALSCALE:GREGORIAN
METHOD:PUBLISH
X-WR-TIMEZONE:Europe/Berlin
BEGIN:VEVENT
UID:event356@Berufsschule, BOS und FOS Kelheim
DTSTAMP:20260419T151042Z
CATEGORIES:Schule - FOSBOS
DESCRIPTION:Bekanntgabe der schriftlichen Abiturergebnisse\, Bücherrückgabe
 \, Abgabe Formular Einsichtnahme\nKategorie: Schule - FOSBOS\nICS-Link: ht
 tps://bsz-kelheim.de/index.php?option=com_jem&view=event&id=356:bekanntgab
 e-der-schriftlichen-abiturergebnisse-buecherrueckgabe-abgabe-formular-eins
 ichtnahme\n
DTSTART;VALUE=DATE:20200716
DTEND;VALUE=DATE:20200717
LOCATION:FOSBOS Kelheim\,Schützenstraße 30\,93309 Kelheim
SUMMARY:Bekanntgabe der schriftlichen Abiturergebnisse\, Bücherrückgabe\, A
 bgabe Formular Einsichtnahme
URL:https://bsz-kelheim.de/index.php?option=com_jem&view=event&id=356:bekan
 ntgabe-der-schriftlichen-abiturergebnisse-buecherrueckgabe-abgabe-formular
 -einsichtnahme
END:VEVENT
END:VCALENDAR
