BEGIN:VCALENDAR
VERSION:2.0
PRODID:-//217.160.0.217//NONSGML kigkonsult.se iCalcreator 2.20//
CALSCALE:GREGORIAN
METHOD:PUBLISH
X-WR-TIMEZONE:Europe/Berlin
BEGIN:VEVENT
UID:event358@Berufsschule, BOS und FOS Kelheim
DTSTAMP:20260420T133921Z
CATEGORIES:Schule - FOSBOS
DESCRIPTION:Aushang des Zeitplans mündliche Prüfungen\nKategorie: Schule - 
 FOSBOS\nICS-Link: https://bsz-kelheim.de/index.php?option=com_jem&view=eve
 nt&id=358:aushang-des-zeitplans-muendliche-pruefungen\n
DTSTART;TZID=Europe/Berlin:20200521T160000
DTEND;TZID=Europe/Berlin:20200521T160000
LOCATION:FOSBOS Kelheim\,Schützenstraße 30\,93309 Kelheim
SUMMARY:Aushang des Zeitplans mündliche Prüfungen
URL:https://bsz-kelheim.de/index.php?option=com_jem&view=event&id=358:ausha
 ng-des-zeitplans-muendliche-pruefungen
END:VEVENT
END:VCALENDAR
