BEGIN:VCALENDAR
VERSION:2.0
PRODID:-//217.160.0.217//NONSGML kigkonsult.se iCalcreator 2.20//
CALSCALE:GREGORIAN
METHOD:PUBLISH
X-WR-TIMEZONE:Europe/Berlin
BEGIN:VEVENT
UID:event360@Berufsschule, BOS und FOS Kelheim
DTSTAMP:20260421T103343Z
CATEGORIES:Schule - FOSBOS
DESCRIPTION:Abiturprüfung - 4. Fach\nKategorie: Schule - FOSBOS\nICS-Link: 
 https://bsz-kelheim.de/index.php?option=com_jem&view=event&id=360:abiturpr
 uefung-4-fach\n
DTSTART;VALUE=DATE:20200623
DTEND;VALUE=DATE:20200624
LOCATION:FOSBOS Kelheim\,Schützenstraße 30\,93309 Kelheim
SUMMARY:Abiturprüfung - 4. Fach
URL:https://bsz-kelheim.de/index.php?option=com_jem&view=event&id=360:abitu
 rpruefung-4-fach
END:VEVENT
END:VCALENDAR
