BEGIN:VCALENDAR
VERSION:2.0
PRODID:-//217.160.0.217//NONSGML kigkonsult.se iCalcreator 2.20//
CALSCALE:GREGORIAN
METHOD:PUBLISH
X-WR-TIMEZONE:Europe/Berlin
BEGIN:VEVENT
UID:event368@Berufsschule, BOS und FOS Kelheim
DTSTAMP:20260420T132646Z
CATEGORIES:Schule - BS-Kelheim
DESCRIPTION:Abschlussprüfung MKF13\nKategorie: Schule - BS-Kelheim\nICS-Lin
 k: https://bsz-kelheim.de/index.php?option=com_jem&view=event&id=368:absch
 lusspruefung-mkf13\n
DTSTART;VALUE=DATE:20201127
DTEND;VALUE=DATE:20201128
LOCATION:BSZ Kelheim\,Schützenstraße 30\,93309 Kelheim
SUMMARY:Abschlussprüfung MKF13
URL:https://bsz-kelheim.de/index.php?option=com_jem&view=event&id=368:absch
 lusspruefung-mkf13
END:VEVENT
END:VCALENDAR
