BEGIN:VCALENDAR
VERSION:2.0
PRODID:-//217.160.0.217//NONSGML kigkonsult.se iCalcreator 2.20//
CALSCALE:GREGORIAN
METHOD:PUBLISH
X-WR-TIMEZONE:Europe/Berlin
BEGIN:VEVENT
UID:event37@Berufsschule, BOS und FOS Kelheim
DTSTAMP:20260423T112015Z
CATEGORIES:Schule - WS
DESCRIPTION:Abschlussprüfungen Wirtschaftsschule 2015\nKategorie: Schule - 
 WS\nICS-Link: https://bsz-kelheim.de/index.php?option=com_jem&view=event&i
 d=37:abschlusspruefungen-wirtschaftsschule-2015\n
DTSTART;VALUE=DATE:20150622
DTEND;VALUE=DATE:20150627
LOCATION:Wirtschaftsschule Abensberg\,Römerstraße 12\,93326 Abensberg
SUMMARY:Abschlussprüfungen Wirtschaftsschule 2015
URL:https://bsz-kelheim.de/index.php?option=com_jem&view=event&id=37:abschl
 usspruefungen-wirtschaftsschule-2015
END:VEVENT
END:VCALENDAR
