BEGIN:VCALENDAR
VERSION:2.0
PRODID:-//217.160.0.217//NONSGML kigkonsult.se iCalcreator 2.20//
CALSCALE:GREGORIAN
METHOD:PUBLISH
X-WR-TIMEZONE:Europe/Berlin
BEGIN:VEVENT
UID:event375@Berufsschule, BOS und FOS Kelheim
DTSTAMP:20260421T103705Z
CATEGORIES:Schule - FOSBOS
DESCRIPTION:Abschlussprüfung im Fach Mathematik\nKategorie: Schule - FOSBOS
 \nICS-Link: https://bsz-kelheim.de/index.php?option=com_jem&view=event&id=
 375:abschlusspruefung-im-fach-mathematik\n
DTSTART;VALUE=DATE:20210615
DTEND;VALUE=DATE:20210616
SUMMARY:Abschlussprüfung im Fach Mathematik
URL:https://bsz-kelheim.de/index.php?option=com_jem&view=event&id=375:absch
 lusspruefung-im-fach-mathematik
END:VEVENT
END:VCALENDAR
