BEGIN:VCALENDAR
VERSION:2.0
PRODID:-//217.160.0.217//NONSGML kigkonsult.se iCalcreator 2.20//
CALSCALE:GREGORIAN
METHOD:PUBLISH
X-WR-TIMEZONE:Europe/Berlin
BEGIN:VEVENT
UID:event377@Berufsschule, BOS und FOS Kelheim
DTSTAMP:20260421T102911Z
CATEGORIES:Schule - WS
DESCRIPTION:WS - Abschlussprüfung Mathematik\nKategorie: Schule - WS\nICS-L
 ink: https://bsz-kelheim.de/index.php?option=com_jem&view=event&id=377:abs
 chlusspruefung-mathematik\n
DTSTART;VALUE=DATE:20210702
DTEND;VALUE=DATE:20210703
SUMMARY:WS - Abschlussprüfung Mathematik
URL:https://bsz-kelheim.de/index.php?option=com_jem&view=event&id=377:absch
 lusspruefung-mathematik
END:VEVENT
END:VCALENDAR
