BEGIN:VCALENDAR
VERSION:2.0
PRODID:-//217.160.0.217//NONSGML kigkonsult.se iCalcreator 2.20//
CALSCALE:GREGORIAN
METHOD:PUBLISH
X-WR-TIMEZONE:Europe/Berlin
BEGIN:VEVENT
UID:event38@Berufsschule, BOS und FOS Kelheim
DTSTAMP:20260419T180058Z
CATEGORIES:Schule - WS
DESCRIPTION:Sportfest der Wirtschaftsschule Abensberg\nKategorie: Schule - 
 WS\nICS-Link: https://bsz-kelheim.de/index.php?option=com_jem&view=event&i
 d=38:sportfest-der-wirtschaftsschule-abensberg\n
DTSTART;VALUE=DATE:20150720
DTEND;VALUE=DATE:20150721
LOCATION:Wirtschaftsschule Abensberg\,Römerstraße 12\,93326 Abensberg
SUMMARY:Sportfest der Wirtschaftsschule Abensberg
URL:https://bsz-kelheim.de/index.php?option=com_jem&view=event&id=38:sportf
 est-der-wirtschaftsschule-abensberg
END:VEVENT
END:VCALENDAR
