BEGIN:VCALENDAR
VERSION:2.0
PRODID:-//217.160.0.217//NONSGML kigkonsult.se iCalcreator 2.20//
CALSCALE:GREGORIAN
METHOD:PUBLISH
X-WR-TIMEZONE:Europe/Berlin
BEGIN:VEVENT
UID:event385@Berufsschule, BOS und FOS Kelheim
DTSTAMP:20260421T133319Z
CATEGORIES:Schule - WS
DESCRIPTION:Klassenelternabend Wirtschaftsschule\nKategorie: Schule - WS\nI
 CS-Link: https://bsz-kelheim.de/index.php?option=com_jem&view=event&id=385
 :klassenelternabend\n
DTSTART;TZID=Europe/Berlin:20210922T183000
DTEND;TZID=Europe/Berlin:20210922T183000
LOCATION:Wirtschaftsschule Abensberg\,Römerstraße 12\,93326 Abensberg
SUMMARY:Klassenelternabend Wirtschaftsschule
URL:https://bsz-kelheim.de/index.php?option=com_jem&view=event&id=385:klass
 enelternabend
END:VEVENT
END:VCALENDAR
