BEGIN:VCALENDAR
VERSION:2.0
PRODID:-//217.160.0.217//NONSGML kigkonsult.se iCalcreator 2.20//
CALSCALE:GREGORIAN
METHOD:PUBLISH
X-WR-TIMEZONE:Europe/Berlin
BEGIN:VEVENT
UID:event391@Berufsschule, BOS und FOS Kelheim
DTSTAMP:20260423T150018Z
CATEGORIES:Anmeldung WS\, Schule - WS
DESCRIPTION:Informationsveranstaltung WS\nKategorie: Anmeldung WS\, Schule 
 - WS\nICS-Link: https://bsz-kelheim.de/index.php?option=com_jem&view=event
 &id=391:informationsveranstaltung-ws\n
DTSTART;TZID=Europe/Berlin:20220223T190000
DTEND;TZID=Europe/Berlin:20220223T210000
LOCATION:Wirtschaftsschule Abensberg\,Römerstraße 12\,93326 Abensberg
SUMMARY:Informationsveranstaltung WS
URL:https://bsz-kelheim.de/index.php?option=com_jem&view=event&id=391:infor
 mationsveranstaltung-ws
END:VEVENT
END:VCALENDAR
