BEGIN:VCALENDAR
VERSION:2.0
PRODID:-//217.160.0.217//NONSGML kigkonsult.se iCalcreator 2.20//
CALSCALE:GREGORIAN
METHOD:PUBLISH
X-WR-TIMEZONE:Europe/Berlin
BEGIN:VEVENT
UID:event393@Berufsschule, BOS und FOS Kelheim
DTSTAMP:20260423T111834Z
CATEGORIES:Anmeldung WS\, Schule - WS
DESCRIPTION:Anmeldezeitraum 2 WS\nKategorie: Anmeldung WS\, Schule - WS\nIC
 S-Link: https://bsz-kelheim.de/index.php?option=com_jem&view=event&id=393:
 anmeldezeitraum-2-ws\n
DTSTART;VALUE=DATE:20220328
DTEND;VALUE=DATE:20220409
SUMMARY:Anmeldezeitraum 2 WS
URL:https://bsz-kelheim.de/index.php?option=com_jem&view=event&id=393:anmel
 dezeitraum-2-ws
END:VEVENT
END:VCALENDAR
