BEGIN:VCALENDAR
VERSION:2.0
PRODID:-//217.160.0.217//NONSGML kigkonsult.se iCalcreator 2.20//
CALSCALE:GREGORIAN
METHOD:PUBLISH
X-WR-TIMEZONE:Europe/Berlin
BEGIN:VEVENT
UID:event415@Berufsschule, BOS und FOS Kelheim
DTSTAMP:20260419T175326Z
CATEGORIES:Schule - WS
DESCRIPTION:Infoveranstaltung Wirtschaftsschule\nKategorie: Schule - WS\nIC
 S-Link: https://bsz-kelheim.de/index.php?option=com_jem&view=event&id=415:
 infoveranstaltung-wirtschaftsschule\n
DTSTART;TZID=Europe/Berlin:20240221T190000
DTEND;TZID=Europe/Berlin:20240221T190000
SUMMARY:Infoveranstaltung Wirtschaftsschule
URL:https://bsz-kelheim.de/index.php?option=com_jem&view=event&id=415:infov
 eranstaltung-wirtschaftsschule
END:VEVENT
END:VCALENDAR
