BEGIN:VCALENDAR
VERSION:2.0
PRODID:-//217.160.0.217//NONSGML kigkonsult.se iCalcreator 2.20//
CALSCALE:GREGORIAN
METHOD:PUBLISH
X-WR-TIMEZONE:Europe/Berlin
BEGIN:VEVENT
UID:event417@Berufsschule, BOS und FOS Kelheim
DTSTAMP:20260421T135454Z
CATEGORIES:Schule - FOSBOS
DESCRIPTION:BO-Schulforum\nKategorie: Schule - FOSBOS\nICS-Link: https://bs
 z-kelheim.de/index.php?option=com_jem&view=event&id=417:bo-schulforum\n
DTSTART;TZID=Europe/Berlin:20231128T180000
DTEND;TZID=Europe/Berlin:20231128T190000
SUMMARY:BO-Schulforum
URL:https://bsz-kelheim.de/index.php?option=com_jem&view=event&id=417:bo-sc
 hulforum
END:VEVENT
END:VCALENDAR
