BEGIN:VCALENDAR
VERSION:2.0
PRODID:-//217.160.0.217//NONSGML kigkonsult.se iCalcreator 2.20//
CALSCALE:GREGORIAN
METHOD:PUBLISH
X-WR-TIMEZONE:Europe/Berlin
BEGIN:VEVENT
UID:event421@Berufsschule, BOS und FOS Kelheim
DTSTAMP:20260421T140531Z
CATEGORIES:Anmeldung FOSBOS
DESCRIPTION:Anmeldezeitraum FOSBOS\nKategorie: Anmeldung FOSBOS\nICS-Link: 
 https://bsz-kelheim.de/index.php?option=com_jem&view=event&id=421:anmeldez
 eitraum-fosbos\n
DTSTART;VALUE=DATE:20240226
DTEND;VALUE=DATE:20240309
SUMMARY:Anmeldezeitraum FOSBOS
URL:https://bsz-kelheim.de/index.php?option=com_jem&view=event&id=421:anmel
 dezeitraum-fosbos
END:VEVENT
END:VCALENDAR
