BEGIN:VCALENDAR
VERSION:2.0
PRODID:-//217.160.0.217//NONSGML kigkonsult.se iCalcreator 2.20//
CALSCALE:GREGORIAN
METHOD:PUBLISH
X-WR-TIMEZONE:Europe/Berlin
BEGIN:VEVENT
UID:event424@Berufsschule, BOS und FOS Kelheim
DTSTAMP:20260421T134009Z
CATEGORIES:Schule - FOSBOS
DESCRIPTION:Abiturprüfung Deutsch\nKategorie: Schule - FOSBOS\nICS-Link: ht
 tps://bsz-kelheim.de/index.php?option=com_jem&view=event&id=424:abiturprue
 fung-deutsch\n
DTSTART;VALUE=DATE:20240510
DTEND;VALUE=DATE:20240511
SUMMARY:Abiturprüfung Deutsch
URL:https://bsz-kelheim.de/index.php?option=com_jem&view=event&id=424:abitu
 rpruefung-deutsch
END:VEVENT
END:VCALENDAR
