BEGIN:VCALENDAR
VERSION:2.0
PRODID:-//217.160.0.217//NONSGML kigkonsult.se iCalcreator 2.20//
CALSCALE:GREGORIAN
METHOD:PUBLISH
X-WR-TIMEZONE:Europe/Berlin
BEGIN:VEVENT
UID:event426@Berufsschule, BOS und FOS Kelheim
DTSTAMP:20260419T145654Z
CATEGORIES:Schule - FOSBOS
DESCRIPTION:Abiturprüfung 4. Prüfungsfach\nKategorie: Schule - FOSBOS\nICS-
 Link: https://bsz-kelheim.de/index.php?option=com_jem&view=event&id=426:ab
 iturpruefung-4-pruefungsfach\n
DTSTART;VALUE=DATE:20240515
DTEND;VALUE=DATE:20240516
SUMMARY:Abiturprüfung 4. Prüfungsfach
URL:https://bsz-kelheim.de/index.php?option=com_jem&view=event&id=426:abitu
 rpruefung-4-pruefungsfach
END:VEVENT
END:VCALENDAR
