BEGIN:VCALENDAR
VERSION:2.0
PRODID:-//217.160.0.217//NONSGML kigkonsult.se iCalcreator 2.20//
CALSCALE:GREGORIAN
METHOD:PUBLISH
X-WR-TIMEZONE:Europe/Berlin
BEGIN:VEVENT
UID:event432@Berufsschule, BOS und FOS Kelheim
DTSTAMP:20260423T114322Z
CATEGORIES:Schule - FOSBOS
DESCRIPTION:Vortrag „Geldpolitik der Europäischen Zentralbank“ - BO Wirtsch
 aft\nKategorie: Schule - FOSBOS\nICS-Link: https://bsz-kelheim.de/index.ph
 p?option=com_jem&view=event&id=432:vortrag-geldpolitik-der-europaeischen-z
 entralbank-bo-wirtschaft\n
DTSTART;TZID=Europe/Berlin:20240208T102000
DTEND;TZID=Europe/Berlin:20240208T102000
LOCATION:FOSBOS Kelheim\,Schützenstraße 30\,93309 Kelheim
SUMMARY:Vortrag „Geldpolitik der Europäischen Zentralbank“ - BO Wirtschaft
URL:https://bsz-kelheim.de/index.php?option=com_jem&view=event&id=432:vortr
 ag-geldpolitik-der-europaeischen-zentralbank-bo-wirtschaft
END:VEVENT
END:VCALENDAR
