BEGIN:VCALENDAR
VERSION:2.0
PRODID:-//217.160.0.217//NONSGML kigkonsult.se iCalcreator 2.20//
CALSCALE:GREGORIAN
METHOD:PUBLISH
X-WR-TIMEZONE:Europe/Berlin
BEGIN:VEVENT
UID:event435@Berufsschule, BOS und FOS Kelheim
DTSTAMP:20260419T150100Z
CATEGORIES:Anmeldung WS\, Schule - WS
DESCRIPTION:Persönliche Anmeldung an der Wirtschaftsschule im Zeitraum\nKat
 egorie: Anmeldung WS\, Schule - WS\nICS-Link: https://bsz-kelheim.de/index
 .php?option=com_jem&view=event&id=435:persoenliche-anmeldung-an-der-wirtsc
 haftsschule-im-zeitraum\n
DTSTART;VALUE=DATE:20240408
DTEND;VALUE=DATE:20240420
SUMMARY:Persönliche Anmeldung an der Wirtschaftsschule im Zeitraum
URL:https://bsz-kelheim.de/index.php?option=com_jem&view=event&id=435:perso
 enliche-anmeldung-an-der-wirtschaftsschule-im-zeitraum
END:VEVENT
END:VCALENDAR
