BEGIN:VCALENDAR
VERSION:2.0
PRODID:-//217.160.0.217//NONSGML kigkonsult.se iCalcreator 2.20//
CALSCALE:GREGORIAN
METHOD:PUBLISH
X-WR-TIMEZONE:Europe/Berlin
BEGIN:VEVENT
UID:event438@Berufsschule, BOS und FOS Kelheim
DTSTAMP:20260419T180849Z
CATEGORIES:Schule - FOSBOS
DESCRIPTION:Infoveranstaltung zum Seminarfach BO13 über ms teams\nKategorie
 : Schule - FOSBOS\nICS-Link: https://bsz-kelheim.de/index.php?option=com_j
 em&view=event&id=438:infoveranstaltung-zum-seminarfach-bo13-ueber-ms-teams
 \n
DTSTART;TZID=Europe/Berlin:20240410T173000
DTEND;TZID=Europe/Berlin:20240410T173000
SUMMARY:Infoveranstaltung zum Seminarfach BO13 über ms teams
URL:https://bsz-kelheim.de/index.php?option=com_jem&view=event&id=438:infov
 eranstaltung-zum-seminarfach-bo13-ueber-ms-teams
END:VEVENT
END:VCALENDAR
