BEGIN:VCALENDAR
VERSION:2.0
PRODID:-//217.160.0.217//NONSGML kigkonsult.se iCalcreator 2.20//
CALSCALE:GREGORIAN
METHOD:PUBLISH
X-WR-TIMEZONE:Europe/Berlin
BEGIN:VEVENT
UID:event439@Berufsschule, BOS und FOS Kelheim
DTSTAMP:20260421T135616Z
CATEGORIES:Schule - FOSBOS
DESCRIPTION:Blockphase Seminarfach\nKategorie: Schule - FOSBOS\nICS-Link: h
 ttps://bsz-kelheim.de/index.php?option=com_jem&view=event&id=439:blockphas
 e-seminarfach\n
DTSTART;VALUE=DATE:20240701
DTEND;VALUE=DATE:20240720
SUMMARY:Blockphase Seminarfach
URL:https://bsz-kelheim.de/index.php?option=com_jem&view=event&id=439:block
 phase-seminarfach
END:VEVENT
END:VCALENDAR
