BEGIN:VCALENDAR
VERSION:2.0
PRODID:-//217.160.0.217//NONSGML kigkonsult.se iCalcreator 2.20//
CALSCALE:GREGORIAN
METHOD:PUBLISH
X-WR-TIMEZONE:Europe/Berlin
BEGIN:VEVENT
UID:event446@Berufsschule, BOS und FOS Kelheim
DTSTAMP:20260420T132623Z
CATEGORIES:Schule - FOSBOS
DESCRIPTION:Workshop Schreibberatung (BO)\nKategorie: Schule - FOSBOS\nICS-
 Link: https://bsz-kelheim.de/index.php?option=com_jem&view=event&id=446:wo
 rkshop-schreibberatung-bo\n
DTSTART;VALUE=DATE:20240927
DTEND;VALUE=DATE:20240928
LOCATION:FOSBOS Kelheim\,Schützenstraße 30\,93309 Kelheim
SUMMARY:Workshop Schreibberatung (BO)
URL:https://bsz-kelheim.de/index.php?option=com_jem&view=event&id=446:works
 hop-schreibberatung-bo
END:VEVENT
END:VCALENDAR
