BEGIN:VCALENDAR
VERSION:2.0
PRODID:-//217.160.0.217//NONSGML kigkonsult.se iCalcreator 2.20//
CALSCALE:GREGORIAN
METHOD:PUBLISH
X-WR-TIMEZONE:Europe/Berlin
BEGIN:VEVENT
UID:event447@Berufsschule, BOS und FOS Kelheim
DTSTAMP:20260421T100440Z
CATEGORIES:Schule - FOSBOS
DESCRIPTION:Workshop Schreibberatung (BO) - 2 \nKategorie: Schule - FOSBOS
 \nICS-Link: https://bsz-kelheim.de/index.php?option=com_jem&view=event&id=
 447:workshop-schreibberatung-bo-2\n
DTSTART;VALUE=DATE:20241010
DTEND;VALUE=DATE:20241011
LOCATION:FOSBOS Kelheim\,Schützenstraße 30\,93309 Kelheim
SUMMARY:Workshop Schreibberatung (BO) - 2 
URL:https://bsz-kelheim.de/index.php?option=com_jem&view=event&id=447:works
 hop-schreibberatung-bo-2
END:VEVENT
END:VCALENDAR
