BEGIN:VCALENDAR
VERSION:2.0
PRODID:-//217.160.0.217//NONSGML kigkonsult.se iCalcreator 2.20//
CALSCALE:GREGORIAN
METHOD:PUBLISH
X-WR-TIMEZONE:Europe/Berlin
BEGIN:VEVENT
UID:event452@Berufsschule, BOS und FOS Kelheim
DTSTAMP:20260423T112205Z
CATEGORIES:Anmeldung WS\, Schule - WS
DESCRIPTION:Anmeldungszeitraum Wirtschaftsschule\nKategorie: Anmeldung WS\,
  Schule - WS\nICS-Link: https://bsz-kelheim.de/index.php?option=com_jem&vi
 ew=event&id=452:anmeldungszeitraum-wirtschaftsschule\n
DTSTART;VALUE=DATE:20250217
DTEND;VALUE=DATE:20250301
SUMMARY:Anmeldungszeitraum Wirtschaftsschule
URL:https://bsz-kelheim.de/index.php?option=com_jem&view=event&id=452:anmel
 dungszeitraum-wirtschaftsschule
END:VEVENT
END:VCALENDAR
