BEGIN:VCALENDAR
VERSION:2.0
PRODID:-//217.160.0.217//NONSGML kigkonsult.se iCalcreator 2.20//
CALSCALE:GREGORIAN
METHOD:PUBLISH
X-WR-TIMEZONE:Europe/Berlin
BEGIN:VEVENT
UID:event453@Berufsschule, BOS und FOS Kelheim
DTSTAMP:20260421T103333Z
CATEGORIES:Anmeldung WS\, Schule - WS
DESCRIPTION:Anmeldezeitraum Wirtschaftsschule - Teil 2\nKategorie: Anmeldun
 g WS\, Schule - WS\nICS-Link: https://bsz-kelheim.de/index.php?option=com_
 jem&view=event&id=453:anmeldezeitraum-wirtschaftsschule-teil-2\n
DTSTART;VALUE=DATE:20250407
DTEND;VALUE=DATE:20250412
SUMMARY:Anmeldezeitraum Wirtschaftsschule - Teil 2
URL:https://bsz-kelheim.de/index.php?option=com_jem&view=event&id=453:anmel
 dezeitraum-wirtschaftsschule-teil-2
END:VEVENT
END:VCALENDAR
