BEGIN:VCALENDAR
VERSION:2.0
PRODID:-//217.160.0.217//NONSGML kigkonsult.se iCalcreator 2.20//
CALSCALE:GREGORIAN
METHOD:PUBLISH
X-WR-TIMEZONE:Europe/Berlin
BEGIN:VEVENT
UID:event460@Berufsschule, BOS und FOS Kelheim
DTSTAMP:20260421T135618Z
CATEGORIES:Schule - BS-Kelheim
DESCRIPTION:AOK Workshop Einzelhandel\nKategorie: Schule - BS-Kelheim\nICS-
 Link: https://bsz-kelheim.de/index.php?option=com_jem&view=event&id=460:ao
 k-workshop-einzelhandel\n
DTSTART;VALUE=DATE:20250124
DTEND;VALUE=DATE:20250125
LOCATION:BSZ Kelheim\,Schützenstraße 30\,93309 Kelheim
SUMMARY:AOK Workshop Einzelhandel
URL:https://bsz-kelheim.de/index.php?option=com_jem&view=event&id=460:aok-w
 orkshop-einzelhandel
END:VEVENT
END:VCALENDAR
