BEGIN:VCALENDAR
VERSION:2.0
PRODID:-//217.160.0.217//NONSGML kigkonsult.se iCalcreator 2.20//
CALSCALE:GREGORIAN
METHOD:PUBLISH
X-WR-TIMEZONE:Europe/Berlin
BEGIN:VEVENT
UID:event462@Berufsschule, BOS und FOS Kelheim
DTSTAMP:20260421T141036Z
CATEGORIES:Abteilung Wirtschaft_BS
DESCRIPTION:Cyber-Talk mit Martin Fritz - Medienkompetenz\nKategorie: Abtei
 lung Wirtschaft_BS\nICS-Link: https://bsz-kelheim.de/index.php?option=com_
 jem&view=event&id=462:cyber-talk-mit-martin-fritz-medienkompetenz\n
DTSTART;VALUE=DATE:20250228
DTEND;VALUE=DATE:20250301
LOCATION:BSZ Kelheim\,Schützenstraße 30\,93309 Kelheim
SUMMARY:Cyber-Talk mit Martin Fritz - Medienkompetenz
URL:https://bsz-kelheim.de/index.php?option=com_jem&view=event&id=462:cyber
 -talk-mit-martin-fritz-medienkompetenz
END:VEVENT
END:VCALENDAR
