BEGIN:VCALENDAR
VERSION:2.0
PRODID:-//217.160.0.217//NONSGML kigkonsult.se iCalcreator 2.20//
CALSCALE:GREGORIAN
METHOD:PUBLISH
X-WR-TIMEZONE:Europe/Berlin
BEGIN:VEVENT
UID:event463@Berufsschule, BOS und FOS Kelheim
DTSTAMP:20260420T134436Z
CATEGORIES:Schule - FOSBOS
DESCRIPTION:Geldpolitik in und aus der Praxis - Aktuelle Informationen aus 
 erster Hand - Herr Johann Rebl (Leiter der Deutschen Bundesbank - Filiale 
 Regensburg)\nKategorie: Schule - FOSBOS\nICS-Link: https://bsz-kelheim.de/
 index.php?option=com_jem&view=event&id=463:geldpolitik-in-und-aus-der-prax
 is-aktuelle-informationen-aus-erster-hand-herr-johann-rebl-leiter-der-deut
 schen-bundesbank-filiale-regensburg\n
DTSTART;TZID=Europe/Berlin:20250217T102000
DTEND;TZID=Europe/Berlin:20250217T102000
LOCATION:FOSBOS Kelheim\,Schützenstraße 30\,93309 Kelheim
SUMMARY:Geldpolitik in und aus der Praxis - Aktuelle Informationen aus erst
 er Hand - Herr Johann Rebl (Leiter der Deutschen Bundesbank - Filiale Rege
 nsburg)
URL:https://bsz-kelheim.de/index.php?option=com_jem&view=event&id=463:geldp
 olitik-in-und-aus-der-praxis-aktuelle-informationen-aus-erster-hand-herr-j
 ohann-rebl-leiter-der-deutschen-bundesbank-filiale-regensburg
END:VEVENT
END:VCALENDAR
