BEGIN:VCALENDAR
VERSION:2.0
PRODID:-//217.160.0.217//NONSGML kigkonsult.se iCalcreator 2.20//
CALSCALE:GREGORIAN
METHOD:PUBLISH
X-WR-TIMEZONE:Europe/Berlin
BEGIN:VEVENT
UID:event56@Berufsschule, BOS und FOS Kelheim
DTSTAMP:20260421T103113Z
CATEGORIES:Schule - WS
DESCRIPTION:Schulandheim WS\, 7. Klassen\nKategorie: Schule - WS\nICS-Link:
  https://bsz-kelheim.de/index.php?option=com_jem&view=event&id=56:schuland
 heim-ws-klasse7\n
DTSTART;VALUE=DATE:20150923
DTEND;VALUE=DATE:20150926
LOCATION:Wirtschaftsschule Abensberg\,Römerstraße 12\,93326 Abensberg
SUMMARY:Schulandheim WS\, 7. Klassen
URL:https://bsz-kelheim.de/index.php?option=com_jem&view=event&id=56:schula
 ndheim-ws-klasse7
END:VEVENT
END:VCALENDAR
