BEGIN:VCALENDAR
VERSION:2.0
PRODID:-//217.160.0.217//NONSGML kigkonsult.se iCalcreator 2.20//
CALSCALE:GREGORIAN
METHOD:PUBLISH
X-WR-TIMEZONE:Europe/Berlin
BEGIN:VEVENT
UID:event59@Berufsschule, BOS und FOS Kelheim
DTSTAMP:20260421T140716Z
CATEGORIES:Schule - BS-Kelheim
DESCRIPTION:Zwischenprüfung der kaufmännischen Berufe\nKategorie: Schule - 
 BS-Kelheim\nICS-Link: https://bsz-kelheim.de/index.php?option=com_jem&view
 =event&id=59:zwischenpruefung-der-kaufmaennischen-berufe\n
DTSTART;VALUE=DATE:20170927
DTEND;VALUE=DATE:20170928
SUMMARY:Zwischenprüfung der kaufmännischen Berufe
URL:https://bsz-kelheim.de/index.php?option=com_jem&view=event&id=59:zwisch
 enpruefung-der-kaufmaennischen-berufe
END:VEVENT
END:VCALENDAR
