BEGIN:VCALENDAR
VERSION:2.0
PRODID:-//217.160.0.217//NONSGML kigkonsult.se iCalcreator 2.20//
CALSCALE:GREGORIAN
METHOD:PUBLISH
X-WR-TIMEZONE:Europe/Berlin
BEGIN:VEVENT
UID:event76@Berufsschule, BOS und FOS Kelheim
DTSTAMP:20260419T175317Z
CATEGORIES:Schule - BS-Kelheim\, Schule - BS-Mainburg
DESCRIPTION:Berufsschulbeiratssitzung\nKategorie: Schule - BS-Kelheim\, Sch
 ule - BS-Mainburg\nICS-Link: https://bsz-kelheim.de/index.php?option=com_j
 em&view=event&id=76:berufsschulbeiratssitzung\n
DTSTART;TZID=Europe/Berlin:20191121T170000
DTEND;TZID=Europe/Berlin:20191121T180000
LOCATION:Berufsschule in Kelheim\,Schützenstraße 30\,93309 Kelheim
SUMMARY:Berufsschulbeiratssitzung
URL:https://bsz-kelheim.de/index.php?option=com_jem&view=event&id=76:berufs
 schulbeiratssitzung
END:VEVENT
END:VCALENDAR
