BEGIN:VCALENDAR
VERSION:2.0
PRODID:-//217.160.0.217//NONSGML kigkonsult.se iCalcreator 2.20//
CALSCALE:GREGORIAN
METHOD:PUBLISH
X-WR-TIMEZONE:Europe/Berlin
BEGIN:VEVENT
UID:event77@Berufsschule, BOS und FOS Kelheim
DTSTAMP:20260420T132627Z
CATEGORIES:Schule - FOSBOS
DESCRIPTION:Schulforumssitzung\nKategorie: Schule - FOSBOS\nICS-Link: https
 ://bsz-kelheim.de/index.php?option=com_jem&view=event&id=77:schulforumssit
 zung\n
DTSTART;TZID=Europe/Berlin:20191121T180000
DTEND;TZID=Europe/Berlin:20191121T190000
LOCATION:FOSBOS Kelheim\,Schützenstraße 30\,93309 Kelheim
SUMMARY:Schulforumssitzung
URL:https://bsz-kelheim.de/index.php?option=com_jem&view=event&id=77:schulf
 orumssitzung
END:VEVENT
END:VCALENDAR
